BEGIN:VCALENDAR
VERSION:2.0
PRODID:-//Big Creek Winery - ECPv6.15.20//NONSGML v1.0//EN
CALSCALE:GREGORIAN
METHOD:PUBLISH
X-WR-CALNAME:Big Creek Winery
X-ORIGINAL-URL:https://bigcreekwinerytennessee.com
X-WR-CALDESC:Events for Big Creek Winery
REFRESH-INTERVAL;VALUE=DURATION:PT1H
X-Robots-Tag:noindex
X-PUBLISHED-TTL:PT1H
BEGIN:VTIMEZONE
TZID:America/Chicago
BEGIN:DAYLIGHT
TZOFFSETFROM:-0600
TZOFFSETTO:-0500
TZNAME:CDT
DTSTART:20230312T080000
END:DAYLIGHT
BEGIN:STANDARD
TZOFFSETFROM:-0500
TZOFFSETTO:-0600
TZNAME:CST
DTSTART:20231105T070000
END:STANDARD
BEGIN:DAYLIGHT
TZOFFSETFROM:-0600
TZOFFSETTO:-0500
TZNAME:CDT
DTSTART:20240310T080000
END:DAYLIGHT
BEGIN:STANDARD
TZOFFSETFROM:-0500
TZOFFSETTO:-0600
TZNAME:CST
DTSTART:20241103T070000
END:STANDARD
BEGIN:DAYLIGHT
TZOFFSETFROM:-0600
TZOFFSETTO:-0500
TZNAME:CDT
DTSTART:20250309T080000
END:DAYLIGHT
BEGIN:STANDARD
TZOFFSETFROM:-0500
TZOFFSETTO:-0600
TZNAME:CST
DTSTART:20251102T070000
END:STANDARD
END:VTIMEZONE
BEGIN:VEVENT
DTSTART;TZID=America/Chicago:20240713T180000
DTEND;TZID=America/Chicago:20240713T210000
DTSTAMP:20260422T174535
CREATED:20240505T180840Z
LAST-MODIFIED:20240606T183453Z
UID:2411-1720893600-1720904400@bigcreekwinerytennessee.com
SUMMARY:The Sins Country at Big Creek Winery July 13
DESCRIPTION:The Sins Country Bring Country Heat and Classic Covers to Big Creek Winery in a Free Concert July 13 from 6-9 p.m.\nDust off your boots and get ready for a three-hour musical journey\, because fan favorites\, The Sins Country\, are returning to Big Creek Winery Tennessee for a sizzling summer concert under the stars!\nGet ready for a night that goes beyond just country! The Sins Country’s three-hour set will not only feature their original hits\, but also a selection of crowd-pleasing covers spanning pop\, classic rock\, country and soul from the 1970s all the way up to the 2000s. So\, there’s something for everyone to sing along to!\nThis husband-and-wife duo\, known for their captivating performances and original music\, will be taking the stage at Big Creek Winery in Pulaski on Saturday\, July 13\, from 6 PM to 9 PM. That’s right\, this open-air concert is free to attend\, offering the perfect chance to unwind\, sip some delicious wine\, and experience the electrifying energy of The Sins Country.\nJoe and Kristen Sins may hail from sunny California\, but their music resonates with the soul of the American South. Their sound blends classic country charm with a contemporary edge\, delivering catchy hooks and heartfelt lyrics that resonate with audiences of all ages.\nLooking for a taste of what to expect? Head over to their Facebook page The Sins Country: https://www.facebook.com/TheSinsCountry?mibextid=LQQJ4d to discover their music and get a feel for their infectious energy.\nA Night of Wine\, Food and Pure Musical Bliss\nWhile The Sins Country provide the soundtrack to your summer evening\, Big Creek Winery will be tantalizing your taste buds with free wine tastings. And to keep your hunger pangs at bay\, the incredible Good News Food Truck will be on-site serving up their mouthwatering menu.\nSo\, gather your friends and family\, grab your lawn chairs or blankets\, and head on down to Big Creek Winery on June 1 for an unforgettable night of free music\, delicious food\, and award-winning wines. Don’t miss your chance to experience the electrifying live show of The Sins Country – Tennessee’s summer soundtrack is waiting!
URL:https://bigcreekwinerytennessee.com/event/the-sins-country-at-big-creek-winery-june-1/
LOCATION:Big Creek Winery\, 1900 Crescentview Road\, Pulaski\, TN\, 38478\, United States
ATTACH;FMTTYPE=image/jpeg:https://bigcreekwinerytennessee.com/wp-content/uploads/2024/05/1.jpg
ORGANIZER;CN="Big Creek Winery":MAILTO:bigcreekwinery@gmail.com
END:VEVENT
END:VCALENDAR